BEGIN:VCALENDAR
VERSION:2.0
PRODID:-//Tukios.com/
BEGIN:VEVENT
UID:b3eda4a4-14c4-4584-8216-ddf7b7503d31@www.koonsrussellfuneralhome.com
DTSTAMP:20260425T011535Z
DTSTART:20260502T213000Z
DTEND:20260502T223000Z
SUMMARY:Memorial Service
DESCRIPTION:
URL:https://www.koonsrussellfuneralhome.com/obituaries/eric-conner-ii
LOCATION: 1121 Main St  Goodland KS 67735
GEO:39.347278;-101.7113663
END:VEVENT
END:VCALENDAR