BEGIN:VCALENDAR
VERSION:2.0
PRODID:-//Tukios.com/
BEGIN:VEVENT
UID:f94882b8-e1fa-432a-b973-d32c34b3e282@www.koonsrussellfuneralhome.com
DTSTAMP:20260421T010039Z
DTSTART:20260423
SUMMARY:Burial
DESCRIPTION:
URL:https://www.koonsrussellfuneralhome.com/obituaries/david-hipley
LOCATION: 27911 Co Rd 41  Bethune CO 80805
GEO:39.4451954;-102.4089106
END:VEVENT
END:VCALENDAR