BEGIN:VCALENDAR
VERSION:2.0
PRODID:-//Tukios.com/
BEGIN:VEVENT
UID:d28ab5ec-ccb3-48c1-95e2-ba77af8d0419@www.koonsrussellfuneralhome.com
DTSTAMP:20260421T010100Z
DTSTART:20260423T160000Z
DTEND:20260423T170000Z
SUMMARY:Funeral Service
DESCRIPTION:
URL:https://www.koonsrussellfuneralhome.com/obituaries/david-hipley
LOCATION: 27911 Co Rd 41  Bethune CO 80805
GEO:39.4451954;-102.4089106
END:VEVENT
END:VCALENDAR